BEGIN:VCALENDAR
VERSION:2.0
PRODID:-//De Ooievaar - ECPv4.9.13//NONSGML v1.0//EN
CALSCALE:GREGORIAN
METHOD:PUBLISH
X-WR-CALNAME:De Ooievaar
X-ORIGINAL-URL:https://www.schooldeooievaar.be
X-WR-CALDESC:Events for De Ooievaar
BEGIN:VTIMEZONE
TZID:Europe/Amsterdam
BEGIN:DAYLIGHT
TZOFFSETFROM:+0100
TZOFFSETTO:+0200
TZNAME:CEST
DTSTART:20260329T010000
END:DAYLIGHT
BEGIN:STANDARD
TZOFFSETFROM:+0200
TZOFFSETTO:+0100
TZNAME:CET
DTSTART:20261025T010000
END:STANDARD
END:VTIMEZONE
BEGIN:VEVENT
DTSTART;VALUE=DATE:20260323
DTEND;VALUE=DATE:20260328
DTSTAMP:20260422T115203
CREATED:20250624T132245Z
LAST-MODIFIED:20250624T132245Z
UID:2229-1774224000-1774655999@www.schooldeooievaar.be
SUMMARY:bosklassen
DESCRIPTION:
URL:https://www.schooldeooievaar.be/index.php/event/bosklassen/
END:VEVENT
END:VCALENDAR