BEGIN:VCALENDAR
VERSION:2.0
PRODID:-//De Ooievaar - ECPv4.9.13//NONSGML v1.0//EN
CALSCALE:GREGORIAN
METHOD:PUBLISH
X-WR-CALNAME:De Ooievaar
X-ORIGINAL-URL:https://www.schooldeooievaar.be
X-WR-CALDESC:Events for De Ooievaar
BEGIN:VTIMEZONE
TZID:Europe/Amsterdam
BEGIN:DAYLIGHT
TZOFFSETFROM:+0100
TZOFFSETTO:+0200
TZNAME:CEST
DTSTART:20250330T010000
END:DAYLIGHT
BEGIN:STANDARD
TZOFFSETFROM:+0200
TZOFFSETTO:+0100
TZNAME:CET
DTSTART:20251026T010000
END:STANDARD
BEGIN:DAYLIGHT
TZOFFSETFROM:+0100
TZOFFSETTO:+0200
TZNAME:CEST
DTSTART:20260329T010000
END:DAYLIGHT
BEGIN:STANDARD
TZOFFSETFROM:+0200
TZOFFSETTO:+0100
TZNAME:CET
DTSTART:20261025T010000
END:STANDARD
END:VTIMEZONE
BEGIN:VEVENT
DTSTART;VALUE=DATE:20251220
DTEND;VALUE=DATE:20260105
DTSTAMP:20260422T140143
CREATED:20250624T132057Z
LAST-MODIFIED:20250624T132057Z
UID:2221-1766188800-1767571199@www.schooldeooievaar.be
SUMMARY:kerstvakantie
DESCRIPTION:
URL:https://www.schooldeooievaar.be/index.php/event/kerstvakantie-6/
END:VEVENT
END:VCALENDAR