BEGIN:VCALENDAR
VERSION:2.0
PRODID:-//De Ooievaar - ECPv4.9.13//NONSGML v1.0//EN
CALSCALE:GREGORIAN
METHOD:PUBLISH
X-WR-CALNAME:De Ooievaar
X-ORIGINAL-URL:https://www.schooldeooievaar.be
X-WR-CALDESC:Events for De Ooievaar
BEGIN:VTIMEZONE
TZID:Europe/Amsterdam
BEGIN:DAYLIGHT
TZOFFSETFROM:+0100
TZOFFSETTO:+0200
TZNAME:CEST
DTSTART:20260329T010000
END:DAYLIGHT
BEGIN:STANDARD
TZOFFSETFROM:+0200
TZOFFSETTO:+0100
TZNAME:CET
DTSTART:20261025T010000
END:STANDARD
END:VTIMEZONE
BEGIN:VEVENT
DTSTART;TZID=Europe/Amsterdam:20260626T150000
DTEND;TZID=Europe/Amsterdam:20260626T190000
DTSTAMP:20260424T105204
CREATED:20250624T132645Z
LAST-MODIFIED:20250826T115727Z
UID:2247-1782486000-1782500400@www.schooldeooievaar.be
SUMMARY:oudercontact
DESCRIPTION:
URL:https://www.schooldeooievaar.be/index.php/event/oudercontact-5/
END:VEVENT
END:VCALENDAR